BEGIN:VCALENDAR
VERSION:2.0
PRODID:-//The Farm | at 42, at 95 - ECPv6.15.20//NONSGML v1.0//EN
CALSCALE:GREGORIAN
METHOD:PUBLISH
X-WR-CALNAME:The Farm | at 42, at 95
X-ORIGINAL-URL:https://thefarmnc.com
X-WR-CALDESC:Events for The Farm | at 42, at 95
REFRESH-INTERVAL;VALUE=DURATION:PT1H
X-Robots-Tag:noindex
X-PUBLISHED-TTL:PT1H
BEGIN:VTIMEZONE
TZID:America/New_York
BEGIN:DAYLIGHT
TZOFFSETFROM:-0500
TZOFFSETTO:-0400
TZNAME:EDT
DTSTART:20250309T070000
END:DAYLIGHT
BEGIN:STANDARD
TZOFFSETFROM:-0400
TZOFFSETTO:-0500
TZNAME:EST
DTSTART:20251102T060000
END:STANDARD
BEGIN:DAYLIGHT
TZOFFSETFROM:-0500
TZOFFSETTO:-0400
TZNAME:EDT
DTSTART:20260308T070000
END:DAYLIGHT
BEGIN:STANDARD
TZOFFSETFROM:-0400
TZOFFSETTO:-0500
TZNAME:EST
DTSTART:20261101T060000
END:STANDARD
BEGIN:DAYLIGHT
TZOFFSETFROM:-0500
TZOFFSETTO:-0400
TZNAME:EDT
DTSTART:20270314T070000
END:DAYLIGHT
BEGIN:STANDARD
TZOFFSETFROM:-0400
TZOFFSETTO:-0500
TZNAME:EST
DTSTART:20271107T060000
END:STANDARD
END:VTIMEZONE
BEGIN:VEVENT
DTSTART;VALUE=DATE:20261205
DTEND;VALUE=DATE:20261206
DTSTAMP:20260424T165407
CREATED:20260129T204719Z
LAST-MODIFIED:20260420T224606Z
UID:10000915-1796428800-1796515199@thefarmnc.com
SUMMARY:Reserved @ 95
DESCRIPTION:
URL:https://thefarmnc.com/event/reserved-95-23/
CATEGORIES:The Farm @ 95
END:VEVENT
BEGIN:VEVENT
DTSTART;VALUE=DATE:20261206
DTEND;VALUE=DATE:20261207
DTSTAMP:20260424T165407
CREATED:20241206T203208Z
LAST-MODIFIED:20260420T224606Z
UID:10000634-1796515200-1796601599@thefarmnc.com
SUMMARY:FICM Church @ 95
DESCRIPTION:
URL:https://thefarmnc.com/event/ficm-church-95-129/
CATEGORIES:The Farm @ 95
END:VEVENT
BEGIN:VEVENT
DTSTART;VALUE=DATE:20261206
DTEND;VALUE=DATE:20261207
DTSTAMP:20260424T165408
CREATED:20241206T221928Z
LAST-MODIFIED:20260424T054404Z
UID:10000635-1796515200-1796601599@thefarmnc.com
SUMMARY:Shine Church @ 42
DESCRIPTION:
URL:https://thefarmnc.com/event/shine-church-42-190/
CATEGORIES:The Farm @ 42
END:VEVENT
BEGIN:VEVENT
DTSTART;VALUE=DATE:20261208
DTEND;VALUE=DATE:20261209
DTSTAMP:20260424T165408
CREATED:20260416T214545Z
LAST-MODIFIED:20260424T054404Z
UID:10000979-1796688000-1796774399@thefarmnc.com
SUMMARY:BFPE Christmas Luncheon @ 42
DESCRIPTION:
URL:https://thefarmnc.com/event/bfpe-christmas-luncheon-42/
CATEGORIES:The Farm @ 42
END:VEVENT
BEGIN:VEVENT
DTSTART;VALUE=DATE:20261213
DTEND;VALUE=DATE:20261214
DTSTAMP:20260424T165408
CREATED:20241213T213102Z
LAST-MODIFIED:20260420T224607Z
UID:10000636-1797120000-1797206399@thefarmnc.com
SUMMARY:FICM Church @ 95
DESCRIPTION:
URL:https://thefarmnc.com/event/ficm-church-95-130/
CATEGORIES:The Farm @ 95
END:VEVENT
BEGIN:VEVENT
DTSTART;VALUE=DATE:20261213
DTEND;VALUE=DATE:20261214
DTSTAMP:20260424T165408
CREATED:20241213T233221Z
LAST-MODIFIED:20260424T054405Z
UID:10000637-1797120000-1797206399@thefarmnc.com
SUMMARY:Shine Church @ 42
DESCRIPTION:
URL:https://thefarmnc.com/event/shine-church-42-191/
CATEGORIES:The Farm @ 42
END:VEVENT
BEGIN:VEVENT
DTSTART;VALUE=DATE:20261215
DTEND;VALUE=DATE:20261216
DTSTAMP:20260424T165408
CREATED:20260416T214546Z
LAST-MODIFIED:20260424T054405Z
UID:10000980-1797292800-1797379199@thefarmnc.com
SUMMARY:Cottages at Evergreen Holiday Dinner @ 42
DESCRIPTION:
URL:https://thefarmnc.com/event/cottages-at-evergreen-holiday-dinner-42/
CATEGORIES:The Farm @ 42
END:VEVENT
BEGIN:VEVENT
DTSTART;VALUE=DATE:20261218
DTEND;VALUE=DATE:20261219
DTSTAMP:20260424T165408
CREATED:20260129T204719Z
LAST-MODIFIED:20260420T224607Z
UID:10000916-1797552000-1797638399@thefarmnc.com
SUMMARY:OPW Holiday Luncheon @ 95
DESCRIPTION:
URL:https://thefarmnc.com/event/opw-holiday-luncheon-95-2/
CATEGORIES:The Farm @ 95
END:VEVENT
BEGIN:VEVENT
DTSTART;VALUE=DATE:20261220
DTEND;VALUE=DATE:20261221
DTSTAMP:20260424T165408
CREATED:20241220T211640Z
LAST-MODIFIED:20260424T054405Z
UID:10000638-1797724800-1797811199@thefarmnc.com
SUMMARY:Shine Church @ 42
DESCRIPTION:
URL:https://thefarmnc.com/event/shine-church-42-192/
CATEGORIES:The Farm @ 42
END:VEVENT
BEGIN:VEVENT
DTSTART;VALUE=DATE:20261220
DTEND;VALUE=DATE:20261221
DTSTAMP:20260424T165408
CREATED:20241224T234826Z
LAST-MODIFIED:20260420T224607Z
UID:10000639-1797724800-1797811199@thefarmnc.com
SUMMARY:FICM Church @ 95
DESCRIPTION:
URL:https://thefarmnc.com/event/ficm-church-95-131/
CATEGORIES:The Farm @ 95
END:VEVENT
BEGIN:VEVENT
DTSTART;VALUE=DATE:20261227
DTEND;VALUE=DATE:20261228
DTSTAMP:20260424T165408
CREATED:20241227T203016Z
LAST-MODIFIED:20260420T224607Z
UID:10000640-1798329600-1798415999@thefarmnc.com
SUMMARY:FICM Church @ 95
DESCRIPTION:
URL:https://thefarmnc.com/event/ficm-church-95-132/
CATEGORIES:The Farm @ 95
END:VEVENT
BEGIN:VEVENT
DTSTART;VALUE=DATE:20261227
DTEND;VALUE=DATE:20261228
DTSTAMP:20260424T165408
CREATED:20241229T225957Z
LAST-MODIFIED:20260424T054405Z
UID:10000642-1798329600-1798415999@thefarmnc.com
SUMMARY:Shine Church @ 42
DESCRIPTION:
URL:https://thefarmnc.com/event/shine-church-42-193/
CATEGORIES:The Farm @ 42
END:VEVENT
END:VCALENDAR