BEGIN:VCALENDAR
VERSION:2.0
PRODID:-//The Farm | at 42, at 95 - ECPv6.15.20//NONSGML v1.0//EN
CALSCALE:GREGORIAN
METHOD:PUBLISH
X-ORIGINAL-URL:https://thefarmnc.com
X-WR-CALDESC:Events for The Farm | at 42, at 95
REFRESH-INTERVAL;VALUE=DURATION:PT1H
X-Robots-Tag:noindex
X-PUBLISHED-TTL:PT1H
BEGIN:VTIMEZONE
TZID:America/New_York
BEGIN:DAYLIGHT
TZOFFSETFROM:-0500
TZOFFSETTO:-0400
TZNAME:EDT
DTSTART:20250309T070000
END:DAYLIGHT
BEGIN:STANDARD
TZOFFSETFROM:-0400
TZOFFSETTO:-0500
TZNAME:EST
DTSTART:20251102T060000
END:STANDARD
BEGIN:DAYLIGHT
TZOFFSETFROM:-0500
TZOFFSETTO:-0400
TZNAME:EDT
DTSTART:20260308T070000
END:DAYLIGHT
BEGIN:STANDARD
TZOFFSETFROM:-0400
TZOFFSETTO:-0500
TZNAME:EST
DTSTART:20261101T060000
END:STANDARD
BEGIN:DAYLIGHT
TZOFFSETFROM:-0500
TZOFFSETTO:-0400
TZNAME:EDT
DTSTART:20270314T070000
END:DAYLIGHT
BEGIN:STANDARD
TZOFFSETFROM:-0400
TZOFFSETTO:-0500
TZNAME:EST
DTSTART:20271107T060000
END:STANDARD
END:VTIMEZONE
BEGIN:VEVENT
DTSTART;VALUE=DATE:20260906
DTEND;VALUE=DATE:20260907
DTSTAMP:20260424T111324
CREATED:20240906T211420Z
LAST-MODIFIED:20260420T224605Z
UID:10000575-1788652800-1788739199@thefarmnc.com
SUMMARY:FICM Church @ 95
DESCRIPTION:
URL:https://thefarmnc.com/event/ficm-church-95-116/
CATEGORIES:The Farm @ 95
END:VEVENT
BEGIN:VEVENT
DTSTART;VALUE=DATE:20260906
DTEND;VALUE=DATE:20260907
DTSTAMP:20260424T111324
CREATED:20240907T000341Z
LAST-MODIFIED:20260424T054403Z
UID:10000576-1788652800-1788739199@thefarmnc.com
SUMMARY:Shine Church @ 42
DESCRIPTION:
URL:https://thefarmnc.com/event/shine-church-42-177/
CATEGORIES:The Farm @ 42
END:VEVENT
BEGIN:VEVENT
DTSTART;VALUE=DATE:20260913
DTEND;VALUE=DATE:20260914
DTSTAMP:20260424T111324
CREATED:20240913T221523Z
LAST-MODIFIED:20260420T224605Z
UID:10000582-1789257600-1789343999@thefarmnc.com
SUMMARY:FICM Church @ 95
DESCRIPTION:
URL:https://thefarmnc.com/event/ficm-church-95-117/
CATEGORIES:The Farm @ 95
END:VEVENT
BEGIN:VEVENT
DTSTART;VALUE=DATE:20260913
DTEND;VALUE=DATE:20260914
DTSTAMP:20260424T111324
CREATED:20240914T213236Z
LAST-MODIFIED:20260424T054403Z
UID:10000583-1789257600-1789343999@thefarmnc.com
SUMMARY:Shine Church @ 42
DESCRIPTION:
URL:https://thefarmnc.com/event/shine-church-42-178/
CATEGORIES:The Farm @ 42
END:VEVENT
BEGIN:VEVENT
DTSTART;VALUE=DATE:20260917
DTEND;VALUE=DATE:20260918
DTSTAMP:20260424T111324
CREATED:20250910T203845Z
LAST-MODIFIED:20260424T054403Z
UID:10000833-1789603200-1789689599@thefarmnc.com
SUMMARY:Angel - Walters Wedding @ 42
DESCRIPTION:
URL:https://thefarmnc.com/event/angel-walters-wedding-42/
CATEGORIES:The Farm @ 42
END:VEVENT
BEGIN:VEVENT
DTSTART;VALUE=DATE:20260918
DTEND;VALUE=DATE:20260920
DTSTAMP:20260424T111324
CREATED:20251004T210006Z
LAST-MODIFIED:20260424T054403Z
UID:10000849-1789689600-1789862399@thefarmnc.com
SUMMARY:Albright - Niles Wedding @ 42
DESCRIPTION:
URL:https://thefarmnc.com/event/albright-niles-wedding-42/
CATEGORIES:The Farm @ 42
END:VEVENT
BEGIN:VEVENT
DTSTART;VALUE=DATE:20260920
DTEND;VALUE=DATE:20260921
DTSTAMP:20260424T111324
CREATED:20240920T223302Z
LAST-MODIFIED:20260424T054403Z
UID:10000587-1789862400-1789948799@thefarmnc.com
SUMMARY:Shine Church @ 42
DESCRIPTION:
URL:https://thefarmnc.com/event/shine-church-42-179/
CATEGORIES:The Farm @ 42
END:VEVENT
BEGIN:VEVENT
DTSTART;VALUE=DATE:20260920
DTEND;VALUE=DATE:20260921
DTSTAMP:20260424T111324
CREATED:20240921T230251Z
LAST-MODIFIED:20260420T224605Z
UID:10000588-1789862400-1789948799@thefarmnc.com
SUMMARY:FICM Church @ 95
DESCRIPTION:
URL:https://thefarmnc.com/event/ficm-church-95-118/
CATEGORIES:The Farm @ 95
END:VEVENT
BEGIN:VEVENT
DTSTART;VALUE=DATE:20260925
DTEND;VALUE=DATE:20260927
DTSTAMP:20260424T111324
CREATED:20250708T211610Z
LAST-MODIFIED:20260420T224605Z
UID:10000785-1790294400-1790467199@thefarmnc.com
SUMMARY:Casey - Daughtry Wedding @ 95
DESCRIPTION:
URL:https://thefarmnc.com/event/casey-daughtry-wedding-95/
CATEGORIES:The Farm @ 95
END:VEVENT
BEGIN:VEVENT
DTSTART;VALUE=DATE:20260927
DTEND;VALUE=DATE:20260928
DTSTAMP:20260424T111324
CREATED:20240927T231736Z
LAST-MODIFIED:20260424T054403Z
UID:10000589-1790467200-1790553599@thefarmnc.com
SUMMARY:Shine Church @ 42
DESCRIPTION:
URL:https://thefarmnc.com/event/shine-church-42-180/
CATEGORIES:The Farm @ 42
END:VEVENT
BEGIN:VEVENT
DTSTART;VALUE=DATE:20260927
DTEND;VALUE=DATE:20260928
DTSTAMP:20260424T111324
CREATED:20240928T203043Z
LAST-MODIFIED:20260420T224605Z
UID:10000590-1790467200-1790553599@thefarmnc.com
SUMMARY:FICM Church @ 95
DESCRIPTION:
URL:https://thefarmnc.com/event/ficm-church-95-119/
CATEGORIES:The Farm @ 95
END:VEVENT
BEGIN:VEVENT
DTSTART;VALUE=DATE:20260930
DTEND;VALUE=DATE:20261002
DTSTAMP:20260424T111324
CREATED:20251105T205840Z
LAST-MODIFIED:20260420T224605Z
UID:10000871-1790726400-1790899199@thefarmnc.com
SUMMARY:Esbjorn - Marsh Wedding @ 95
DESCRIPTION:
URL:https://thefarmnc.com/event/esbjorn-marsh-wedding-95/
CATEGORIES:The Farm @ 95
END:VEVENT
END:VCALENDAR