BEGIN:VCALENDAR
VERSION:2.0
PRODID:-//The Farm | at 42, at 95 - ECPv6.15.20//NONSGML v1.0//EN
CALSCALE:GREGORIAN
METHOD:PUBLISH
X-WR-CALNAME:The Farm | at 42, at 95
X-ORIGINAL-URL:https://thefarmnc.com
X-WR-CALDESC:Events for The Farm | at 42, at 95
REFRESH-INTERVAL;VALUE=DURATION:PT1H
X-Robots-Tag:noindex
X-PUBLISHED-TTL:PT1H
BEGIN:VTIMEZONE
TZID:America/New_York
BEGIN:DAYLIGHT
TZOFFSETFROM:-0500
TZOFFSETTO:-0400
TZNAME:EDT
DTSTART:20250309T070000
END:DAYLIGHT
BEGIN:STANDARD
TZOFFSETFROM:-0400
TZOFFSETTO:-0500
TZNAME:EST
DTSTART:20251102T060000
END:STANDARD
BEGIN:DAYLIGHT
TZOFFSETFROM:-0500
TZOFFSETTO:-0400
TZNAME:EDT
DTSTART:20260308T070000
END:DAYLIGHT
BEGIN:STANDARD
TZOFFSETFROM:-0400
TZOFFSETTO:-0500
TZNAME:EST
DTSTART:20261101T060000
END:STANDARD
BEGIN:DAYLIGHT
TZOFFSETFROM:-0500
TZOFFSETTO:-0400
TZNAME:EDT
DTSTART:20270314T070000
END:DAYLIGHT
BEGIN:STANDARD
TZOFFSETFROM:-0400
TZOFFSETTO:-0500
TZNAME:EST
DTSTART:20271107T060000
END:STANDARD
END:VTIMEZONE
BEGIN:VEVENT
DTSTART;VALUE=DATE:20260308
DTEND;VALUE=DATE:20260309
DTSTAMP:20260424T025036
CREATED:20240308T210042Z
LAST-MODIFIED:20260307T220150Z
UID:10000367-1772928000-1773014399@thefarmnc.com
SUMMARY:Shine Church @ 42
DESCRIPTION:
URL:https://thefarmnc.com/event/shine-church-42-151/
CATEGORIES:The Farm @ 42
END:VEVENT
BEGIN:VEVENT
DTSTART;VALUE=DATE:20260313
DTEND;VALUE=DATE:20260314
DTSTAMP:20260424T025036
CREATED:20251009T214706Z
LAST-MODIFIED:20260313T231715Z
UID:10000858-1773360000-1773446399@thefarmnc.com
SUMMARY:WJHS JROTC @ 42
DESCRIPTION:
URL:https://thefarmnc.com/event/wjhs-jrotc-42/
CATEGORIES:The Farm @ 42
END:VEVENT
BEGIN:VEVENT
DTSTART;VALUE=DATE:20260314
DTEND;VALUE=DATE:20260315
DTSTAMP:20260424T025036
CREATED:20250328T213201Z
LAST-MODIFIED:20260314T233029Z
UID:10000712-1773446400-1773532799@thefarmnc.com
SUMMARY:Clayton Woman’s Club @ 42
DESCRIPTION:
URL:https://thefarmnc.com/event/clayton-womans-club-42/
CATEGORIES:The Farm @ 42
END:VEVENT
BEGIN:VEVENT
DTSTART;VALUE=DATE:20260315
DTEND;VALUE=DATE:20260316
DTSTAMP:20260424T025036
CREATED:20240315T215857Z
LAST-MODIFIED:20260315T234607Z
UID:10000369-1773532800-1773619199@thefarmnc.com
SUMMARY:Shine Church @ 42
DESCRIPTION:
URL:https://thefarmnc.com/event/shine-church-42-152/
CATEGORIES:The Farm @ 42
END:VEVENT
BEGIN:VEVENT
DTSTART;VALUE=DATE:20260320
DTEND;VALUE=DATE:20260321
DTSTAMP:20260424T025036
CREATED:20250501T234610Z
LAST-MODIFIED:20260320T204439Z
UID:10000743-1773964800-1774051199@thefarmnc.com
SUMMARY:SSS Prom @ 42
DESCRIPTION:
URL:https://thefarmnc.com/event/sss-prom-42-3/
CATEGORIES:The Farm @ 42
END:VEVENT
BEGIN:VEVENT
DTSTART;VALUE=DATE:20260321
DTEND;VALUE=DATE:20260322
DTSTAMP:20260424T025036
CREATED:20250523T235918Z
LAST-MODIFIED:20260321T204451Z
UID:10000758-1774051200-1774137599@thefarmnc.com
SUMMARY:Whittemore - Rose Wedding @ 42
DESCRIPTION:
URL:https://thefarmnc.com/event/whittemore-rose-wedding-42/
CATEGORIES:The Farm @ 42
END:VEVENT
BEGIN:VEVENT
DTSTART;VALUE=DATE:20260322
DTEND;VALUE=DATE:20260323
DTSTAMP:20260424T025036
CREATED:20240322T233122Z
LAST-MODIFIED:20260321T204451Z
UID:10000372-1774137600-1774223999@thefarmnc.com
SUMMARY:Shine Church @ 42
DESCRIPTION:
URL:https://thefarmnc.com/event/shine-church-42-153/
CATEGORIES:The Farm @ 42
END:VEVENT
BEGIN:VEVENT
DTSTART;VALUE=DATE:20260326
DTEND;VALUE=DATE:20260327
DTSTAMP:20260424T025036
CREATED:20260207T205822Z
LAST-MODIFIED:20260326T213145Z
UID:10000927-1774483200-1774569599@thefarmnc.com
SUMMARY:First Priority Benefit Dinner @ 42
DESCRIPTION:
URL:https://thefarmnc.com/event/first-priority-benefit-dinner-42/
CATEGORIES:The Farm @ 42
END:VEVENT
BEGIN:VEVENT
DTSTART;VALUE=DATE:20260327
DTEND;VALUE=DATE:20260329
DTSTAMP:20260424T025036
CREATED:20250219T225925Z
LAST-MODIFIED:20260328T214442Z
UID:10000679-1774569600-1774742399@thefarmnc.com
SUMMARY:Quincy - Jackson Wedding @ 42
DESCRIPTION:
URL:https://thefarmnc.com/event/quincy-jackson-wedding-42/
CATEGORIES:The Farm @ 42
END:VEVENT
BEGIN:VEVENT
DTSTART;VALUE=DATE:20260329
DTEND;VALUE=DATE:20260330
DTSTAMP:20260424T025036
CREATED:20240330T205751Z
LAST-MODIFIED:20260328T214442Z
UID:10000374-1774742400-1774828799@thefarmnc.com
SUMMARY:Shine Church @ 42
DESCRIPTION:
URL:https://thefarmnc.com/event/shine-church-42-154/
CATEGORIES:The Farm @ 42
END:VEVENT
BEGIN:VEVENT
DTSTART;VALUE=DATE:20260402
DTEND;VALUE=DATE:20260403
DTSTAMP:20260424T025036
CREATED:20250411T233038Z
LAST-MODIFIED:20260402T224431Z
UID:10000724-1775088000-1775174399@thefarmnc.com
SUMMARY:Cleveland Prom @ 42
DESCRIPTION:
URL:https://thefarmnc.com/event/cleveland-prom-42-2/
CATEGORIES:The Farm @ 42
END:VEVENT
BEGIN:VEVENT
DTSTART;VALUE=DATE:20260405
DTEND;VALUE=DATE:20260406
DTSTAMP:20260424T025036
CREATED:20240405T221252Z
LAST-MODIFIED:20260405T230039Z
UID:10000376-1775347200-1775433599@thefarmnc.com
SUMMARY:Shine Church @ 42
DESCRIPTION:
URL:https://thefarmnc.com/event/shine-church-42-155/
CATEGORIES:The Farm @ 42
END:VEVENT
BEGIN:VEVENT
DTSTART;VALUE=DATE:20260409
DTEND;VALUE=DATE:20260410
DTSTAMP:20260424T025036
CREATED:20260207T205823Z
LAST-MODIFIED:20260410T000147Z
UID:10000928-1775692800-1775779199@thefarmnc.com
SUMMARY:FSC @ 42
DESCRIPTION:
URL:https://thefarmnc.com/event/fsc-42-6/
CATEGORIES:The Farm @ 42
END:VEVENT
BEGIN:VEVENT
DTSTART;VALUE=DATE:20260411
DTEND;VALUE=DATE:20260412
DTSTAMP:20260424T025036
CREATED:20250627T203041Z
LAST-MODIFIED:20260411T203124Z
UID:10000780-1775865600-1775951999@thefarmnc.com
SUMMARY:Evans - Herron Wedding @ 42
DESCRIPTION:
URL:https://thefarmnc.com/event/evans-herron-wedding-42/
CATEGORIES:The Farm @ 42
END:VEVENT
BEGIN:VEVENT
DTSTART;VALUE=DATE:20260412
DTEND;VALUE=DATE:20260413
DTSTAMP:20260424T025036
CREATED:20240412T225924Z
LAST-MODIFIED:20260412T204530Z
UID:10000380-1775952000-1776038399@thefarmnc.com
SUMMARY:Shine Church @ 42
DESCRIPTION:
URL:https://thefarmnc.com/event/shine-church-42-156/
CATEGORIES:The Farm @ 42
END:VEVENT
BEGIN:VEVENT
DTSTART;VALUE=DATE:20260417
DTEND;VALUE=DATE:20260418
DTSTAMP:20260424T025036
CREATED:20250501T234611Z
LAST-MODIFIED:20260417T220104Z
UID:10000744-1776384000-1776470399@thefarmnc.com
SUMMARY:WJHS Prom @ 42
DESCRIPTION:
URL:https://thefarmnc.com/event/wjhs-prom-42-3/
CATEGORIES:The Farm @ 42
END:VEVENT
BEGIN:VEVENT
DTSTART;VALUE=DATE:20260418
DTEND;VALUE=DATE:20260419
DTSTAMP:20260424T025036
CREATED:20260218T224614Z
LAST-MODIFIED:20260418T221708Z
UID:10000934-1776470400-1776556799@thefarmnc.com
SUMMARY:Clayton Community Prom @ 42
DESCRIPTION:
URL:https://thefarmnc.com/event/clayton-community-prom-42/
CATEGORIES:The Farm @ 42
END:VEVENT
BEGIN:VEVENT
DTSTART;VALUE=DATE:20260419
DTEND;VALUE=DATE:20260420
DTSTAMP:20260424T025036
CREATED:20240419T235751Z
LAST-MODIFIED:20260419T222738Z
UID:10000386-1776556800-1776643199@thefarmnc.com
SUMMARY:Shine Church @ 42
DESCRIPTION:
URL:https://thefarmnc.com/event/shine-church-42-157/
CATEGORIES:The Farm @ 42
END:VEVENT
BEGIN:VEVENT
DTSTART;VALUE=DATE:20260424
DTEND;VALUE=DATE:20260425
DTSTAMP:20260424T025036
CREATED:20260408T234416Z
LAST-MODIFIED:20260424T054358Z
UID:10000972-1776988800-1777075199@thefarmnc.com
SUMMARY:JCATA @ 42
DESCRIPTION:
URL:https://thefarmnc.com/event/jcata-42-3/
CATEGORIES:The Farm @ 42
END:VEVENT
BEGIN:VEVENT
DTSTART;VALUE=DATE:20260425
DTEND;VALUE=DATE:20260426
DTSTAMP:20260424T025036
CREATED:20250731T214532Z
LAST-MODIFIED:20260424T054358Z
UID:10000805-1777075200-1777161599@thefarmnc.com
SUMMARY:Thales Academy @ 42
DESCRIPTION:
URL:https://thefarmnc.com/event/thales-academy-42-2/
CATEGORIES:The Farm @ 42
END:VEVENT
BEGIN:VEVENT
DTSTART;VALUE=DATE:20260426
DTEND;VALUE=DATE:20260427
DTSTAMP:20260424T025036
CREATED:20240426T211452Z
LAST-MODIFIED:20260424T054358Z
UID:10000388-1777161600-1777247999@thefarmnc.com
SUMMARY:Shine Church @ 42
DESCRIPTION:
URL:https://thefarmnc.com/event/shine-church-42-158/
CATEGORIES:The Farm @ 42
END:VEVENT
BEGIN:VEVENT
DTSTART;VALUE=DATE:20260428
DTEND;VALUE=DATE:20260429
DTSTAMP:20260424T025036
CREATED:20260413T210106Z
LAST-MODIFIED:20260424T054359Z
UID:10000975-1777334400-1777420799@thefarmnc.com
SUMMARY:Johnston County Parade of Homes Banquet @ 42
DESCRIPTION:
URL:https://thefarmnc.com/event/johnston-county-parade-of-homes-banquet-42/
CATEGORIES:The Farm @ 42
END:VEVENT
BEGIN:VEVENT
DTSTART;VALUE=DATE:20260430
DTEND;VALUE=DATE:20260501
DTSTAMP:20260424T025036
CREATED:20260207T205824Z
LAST-MODIFIED:20260424T054359Z
UID:10000930-1777507200-1777593599@thefarmnc.com
SUMMARY:MADD Banquet @ 42
DESCRIPTION:
URL:https://thefarmnc.com/event/madd-banquet-42/
CATEGORIES:The Farm @ 42
END:VEVENT
BEGIN:VEVENT
DTSTART;VALUE=DATE:20260501
DTEND;VALUE=DATE:20260503
DTSTAMP:20260424T025036
CREATED:20250328T213202Z
LAST-MODIFIED:20260424T054359Z
UID:10000713-1777593600-1777766399@thefarmnc.com
SUMMARY:Champagne - Ezzell Wedding @ 42
DESCRIPTION:
URL:https://thefarmnc.com/event/champagne-ezzell-wedding-42/
CATEGORIES:The Farm @ 42
END:VEVENT
BEGIN:VEVENT
DTSTART;VALUE=DATE:20260503
DTEND;VALUE=DATE:20260504
DTSTAMP:20260424T025036
CREATED:20240503T230005Z
LAST-MODIFIED:20260424T054359Z
UID:10000389-1777766400-1777852799@thefarmnc.com
SUMMARY:Shine Church @ 42
DESCRIPTION:
URL:https://thefarmnc.com/event/shine-church-42-159/
CATEGORIES:The Farm @ 42
END:VEVENT
BEGIN:VEVENT
DTSTART;VALUE=DATE:20260504
DTEND;VALUE=DATE:20260505
DTSTAMP:20260424T025036
CREATED:20260312T225908Z
LAST-MODIFIED:20260424T054359Z
UID:10000954-1777852800-1777939199@thefarmnc.com
SUMMARY:Tetro - Ham Wedding @ 42
DESCRIPTION:
URL:https://thefarmnc.com/event/tetro-ham-wedding-42/
CATEGORIES:The Farm @ 42
END:VEVENT
BEGIN:VEVENT
DTSTART;VALUE=DATE:20260507
DTEND;VALUE=DATE:20260509
DTSTAMP:20260424T025036
CREATED:20250520T231530Z
LAST-MODIFIED:20260424T054359Z
UID:10000756-1778112000-1778284799@thefarmnc.com
SUMMARY:Knight - Johnson Wedding @ 42
DESCRIPTION:
URL:https://thefarmnc.com/event/knight-johnson-wedding-42/
CATEGORIES:The Farm @ 42
END:VEVENT
BEGIN:VEVENT
DTSTART;VALUE=DATE:20260509
DTEND;VALUE=DATE:20260510
DTSTAMP:20260424T025036
CREATED:20250520T231530Z
LAST-MODIFIED:20260424T054359Z
UID:10000755-1778284800-1778371199@thefarmnc.com
SUMMARY:EWHS Prom @ 42
DESCRIPTION:
URL:https://thefarmnc.com/event/ewhs-prom-42-4/
CATEGORIES:The Farm @ 42
END:VEVENT
BEGIN:VEVENT
DTSTART;VALUE=DATE:20260510
DTEND;VALUE=DATE:20260511
DTSTAMP:20260424T025036
CREATED:20240511T210002Z
LAST-MODIFIED:20260424T054359Z
UID:10000395-1778371200-1778457599@thefarmnc.com
SUMMARY:Shine Church @ 42
DESCRIPTION:
URL:https://thefarmnc.com/event/shine-church-42-160/
CATEGORIES:The Farm @ 42
END:VEVENT
BEGIN:VEVENT
DTSTART;VALUE=DATE:20260511
DTEND;VALUE=DATE:20260513
DTSTAMP:20260424T025036
CREATED:20260413T210106Z
LAST-MODIFIED:20260424T054359Z
UID:10000976-1778457600-1778630399@thefarmnc.com
SUMMARY:Novo @ 42
DESCRIPTION:
URL:https://thefarmnc.com/event/novo-42-9/
CATEGORIES:The Farm @ 42
END:VEVENT
END:VCALENDAR